Workbook
Name ENGAGE_02frT2kNKhvISDAATVyc_1608645168: #REF!
Name ENGAGE_048oRuBR1GhyXka9d3Jt_1579601679: #REF!
Name ENGAGE_048oRuBR1GhyXka9d3Jt_1579601679: #REF!
Name ENGAGE_04O8ArTsCRbW63oKNuYu_1607951803: #REF!
Name ENGAGE_05HcbReaoHRXx5qV8k9j_1579601617: #REF!
Name ENGAGE_05HcbReaoHRXx5qV8k9j_1579601617: #REF!
Name ENGAGE_07JeVPesA0CQOWSGFzvY_1608644999: #REF!
Name ENGAGE_08uM8x7b1p5EPUtZ8WUp_1579601601: #REF!
Name ENGAGE_08uM8x7b1p5EPUtZ8WUp_1579601601: #REF!
Name ENGAGE_0Ad7isfIzmB9pNtBEpJF_1579601643: #REF!
Name ENGAGE_0Ad7isfIzmB9pNtBEpJF_1579601643: #REF!
Name ENGAGE_0BaB0xGw7b3NEV6itjYR_1608645108: #REF!
Name ENGAGE_0coTMlCGpBc0VHkFRkeI_1608644980: #REF!
Name ENGAGE_0Edqthrdx4lPfJs8Fs9p_1608645166: #REF!
Name ENGAGE_0GdTyym4siWn9Q6FsEYz_1608645028: #REF!
Name ENGAGE_0iaJwTQDI2IxlU5rKvyc_1607951694: #REF!
Name ENGAGE_0j0oU87unGzowhEaerjW_1607951640: #REF!
Name ENGAGE_0jT5wlvJiCTaDbdCSnwM_1607951733: #REF!
Name ENGAGE_0O9FRcTI4e3PrPcEcCuA_1607951716: #REF!
Name ENGAGE_0OT1clCyXx2fnZzsfUO1_1579601743: #REF!
Name ENGAGE_0OT1clCyXx2fnZzsfUO1_1579601743: #REF!
Name ENGAGE_0ZzpHGYVakG9Kz7bwqyo_1608645057: #REF!
Name ENGAGE_12mc1oaU5PpIlHvt1xhj_1579601640: #REF!
Name ENGAGE_12mc1oaU5PpIlHvt1xhj_1579601640: #REF!
Name ENGAGE_12Tt4LvOLLM4zjDX54tF_1579601625: #REF!
Name ENGAGE_12Tt4LvOLLM4zjDX54tF_1579601625: #REF!
Name ENGAGE_13mcYMPXLdImzDu33HVG_1579601606: #REF!
Name ENGAGE_13mcYMPXLdImzDu33HVG_1579601606: #REF!
Name ENGAGE_169q0LNCkdsavDxsddBP_1608645156: #REF!
Name ENGAGE_18ezk26WTvkos17BdRk2_1579601704: #REF!
Name ENGAGE_18ezk26WTvkos17BdRk2_1579601704: #REF!
Name ENGAGE_1aMyrae2tJb8Yxh6LKLY_1608645018: #REF!
Name ENGAGE_1cLhQ3qvq1RHdAfHNTVg_1608645057: #REF!
Name ENGAGE_1CTgC8YASw1u0XTwcVDx_1608644970: #REF!
Name ENGAGE_1dE3rRSrON2gMzSXBWGh_1607951801: #REF!
Name ENGAGE_1EcV6XNKGZH4E9CBmEWs_1607951588: #REF!
Name ENGAGE_1ekuuZhSLpG5AlWGRqk9_1608645018: #REF!
Name ENGAGE_1esG7mpwHyPYF1aRkBRa_1579601701: #REF!
Name ENGAGE_1esG7mpwHyPYF1aRkBRa_1579601701: #REF!
Name ENGAGE_1Fo0jf9LKAfDaxcQLNjl_1579601719: #REF!
Name ENGAGE_1Fo0jf9LKAfDaxcQLNjl_1579601719: #REF!
Name ENGAGE_1gCG8mo4EHAshW45VCt9_1579601743: #REF!
Name ENGAGE_1gCG8mo4EHAshW45VCt9_1579601743: #REF!
Name ENGAGE_1h5GSkaC9Mt0cyfvHlbs_1607951684: #REF!
Name ENGAGE_1I8TnvAY737dO5prfUsE_1579601732: #REF!
Name ENGAGE_1I8TnvAY737dO5prfUsE_1579601732: #REF!
Name ENGAGE_1kfKJMhostjrd5TrCFfM_1607951733: #REF!
Name ENGAGE_1KJBeHuPU1xREx45IBjm_1579601631: #REF!
Name ENGAGE_1KJBeHuPU1xREx45IBjm_1579601631: #REF!
Name ENGAGE_1L4ig1AQmrQkISTbyWB1_1608644982: #REF!
Name ENGAGE_1l6hVwTNrAd1D0oz7rCX_1607951620: #REF!
Name ENGAGE_1WEIftkrjQ8PnYLivqE1_1608645056: #REF!
Name ENGAGE_1WPg0tJStF6GSfccW5ZI_1608644969: #REF!
Name ENGAGE_1yGZajn44s3YsuVbZrQu_1608645134: #REF!
Name ENGAGE_25jsRTX5SRMIASHUTWI2_1608645071: #REF!
Name ENGAGE_27CwypvvJISpXWulGKUJ_1607951594: #REF!
Name ENGAGE_283pzSa0C50EtX8ZHTAp_1608645164: #REF!
Name ENGAGE_29ANBYqGiLiyScb8sSMc_1608645144: #REF!
Name ENGAGE_2Aezlsk1ISCwuRKVJT2i_1607951805: #REF!
Name ENGAGE_2dt2wdSqLoF20Sha5X63_1608645037: #REF!

Sheet CONTENTS
A1: 0. Overview
A2: ='0. Overview'!A1 -> 0.1 Burlington County Basic Needs Overview
A3: ='0. Overview'!A244 -> 0.2 Burlington County Service Needs Overview
A5: 1. Demographics
A6: ='1. Demographics'!A1:I1 -> 1.1. NJ counties race/ethnicity (percentage), 2019
A7: ='1. Demographics'!31:31 -> 1.2 Racial/ ethnic demographics (%) over time, in county
A8: ='1. Demographics'!44:44 -> 1.3. Burlington county municipalities race/ethnicity (percentage), 2019
A9: ='1. Demographics'!124:124 -> 1.4. Population (%) foreign-born in NJ (by county)
A10: ='1. Demographics'!153:153 -> 1.5 Population (%) foreign born over time, in county
A11: ='1. Demographics'!165:165 -> 1.6. Population (%) foreign-born by municipality
A12: ='1. Demographics'!242:242 -> 1.7. NJ county language demographics (percentage), 2019
A13: ='1. Demographics'!271:271 -> 1.8 Population (%) English only speakers over time, in county
A14: ='1. Demographics'!283:283 -> 1.9. Illustration of English-only speakers (%) variation by municipality
A15: ='1. Demographics'!363:363 -> 1.10. Total children in each county under the age of 18
A16: ='1. Demographics'!395:395 -> 1.11. Children (#) per age category in NJ by county
A17: ='1. Demographics'!425:425 -> 1.12. Children (#), by municipality
A18: ='1. Demographics'!452:452 -> 1.13. Children served by CP&P
A19: ='1. Demographics'!484:484 -> 1.14 Children (#) in CP&P out-of-home placement – kin and non-kin, in county
A21: 2. Poverty
A22: ='2. Poverty'!1:1 -> 2.1. NJ county poverty rate of families with children <18 (in the past 12 months), 2019
A23: ='2. Poverty'!31:31 -> 2.2 Families (%) with children under the age of 18 living in poverty over time, in county
A24: ='2. Poverty'!43:43 -> 2.3. Burlington county municipality poverty rate of families with children < 18 (in the past 12 months), 2019
A26: 3. Cost of Living
A27: ='3. Cost of Living'!1:1 -> 3.1. Monthly cost of living estimates ($) for NJ counties
A28: ='3. Cost of Living'!29:29 -> 3.2 Annual cost of living estimates ($) in NJ (by county)
A30: 4. Income
A31: ='4. Income'!1:1 -> 4.1. NJ counties median household income, 2019
A32: ='4. Income'!31:31 -> 4.2 Median household income ($) over time, in county
A33: ='4. Income'!43:43 -> 4.3. Burlington county municipalities median household income, 2019
A35: 5. Housing
A36: ='5. Housing'!1:1 -> 5.1. Households (%) with severe cost burden for housing (by county)
A37: ='5. Housing'!31:31 -> 5.2 Households (%) with severe housing problems* over time, in county
A39: 6. Food & Nutrition
A40: ='6. Food & Nutrition'!A1 -> 6.1 Food Insecurity (%) across counties, 2018
A41: ='6. Food & Nutrition'!37:37 -> 6.2 Individuals (#) enrolled in WIC nutrition program, in county
A42: ='6. Food & Nutrition'!66:66 -> 6.3 Children (#) receiving free or reduced lunch, in county
A43: ='6. Food & Nutrition'!95:95 -> 6.4 Children (#) receiving NJ SNAP supplemental nutritional assistance, in county
A45: 7. Child Care
A46: ='7. Child Care'!1:1 -> 7.1. Median monthly child care cost of center-based care by age of child​
A47: ='7. Child Care'!36:36 -> 7.2. Median monthly child care cost of center-based care by age of child compared with median household income, by county
...

Sheet 0. Overview
A1: 0.1 Burlington County Basic Needs Overview
B2: slider position | C2: spectrum | D2: slider fill | E2: slider size | F2: Slide Title
A3: Hunterdon | B3: 21 | C3: 22 | D3: 20.875 | E3: 0.25 | F3: 2.1
A4: Somerset | B4: 20 | C4: 22 | D4: 19.875 | E4: 0.25
A5: Bergen | B5: 19 | C5: 22 | D5: 18.875 | E5: 0.25
A6: Monmouth | B6: 18 | C6: 22 | D6: 17.875 | E6: 0.25
A7: Morris | B7: 17 | C7: 22 | D7: 16.875 | E7: 0.25
A8: Burlington | B8: 16 | C8: 22 | D8: 15.875 | E8: 0.25
A9: Sussex | B9: 15 | C9: 22 | D9: 14.875 | E9: 0.25
A10: Gloucester | B10: 14 | C10: 22 | D10: 13.875 | E10: 0.25
A11: Warren | B11: 13 | C11: 22 | D11: 12.875 | E11: 0.25
A12: Middlesex | B12: 12 | C12: 22 | D12: 11.875 | E12: 0.25
A13: Union | B13: 11 | C13: 22 | D13: 10.875 | E13: 0.25
A14: Ocean | B14: 10 | C14: 22 | D14: 9.875 | E14: 0.25
A15: Mercer | B15: 9 | C15: 22 | D15: 8.875 | E15: 0.25
... A23: Salem | B23: 1 | C23: 22 | D23: 0.875 | E23: 0.25
A25: Morris | B25: 21 | C25: 22 | D25: 20.875 | E25: 0.25 | F25: 4.1
A26: Hunterdon | B26: 20 | C26: 22 | D26: 19.875 | E26: 0.25
A27: Somerset | B27: 19 | C27: 22 | D27: 18.875 | E27: 0.25
A28: Bergen | B28: 18 | C28: 22 | D28: 17.875 | E28: 0.25
A29: Monmouth | B29: 17 | C29: 22 | D29: 16.875 | E29: 0.25
A30: Sussex | B30: 16 | C30: 22 | D30: 15.875 | E30: 0.25
A31: Middlesex | B31: 15 | C31: 22 | D31: 14.875 | E31: 0.25
A32: Gloucester | B32: 14 | C32: 22 | D32: 13.875 | E32: 0.25
A33: Burlington | B33: 13 | C33: 22 | D33: 12.875 | E33: 0.25
A34: Warren | B34: 12 | C34: 22 | D34: 11.875 | E34: 0.25
A35: Union | B35: 11 | C35: 22 | D35: 10.875 | E35: 0.25
A36: Mercer | B36: 10 | C36: 22 | D36: 9.875 | E36: 0.25
A37: Hudson | B37: 9 | C37: 22 | D37: 8.875 | E37: 0.25
... A45: Cumberland | B45: 1 | C45: 22 | D45: 0.875 | E45: 0.25
A47: Hunterdon | B47: 21 | C47: 22 | D47: 20.875 | E47: 0.25 | F47: 5.1
A48: Morris | B48: 20 | C48: 22 | D48: 19.875 | E48: 0.25
A49: Warren | B49: 19 | C49: 22 | D49: 18.875 | E49: 0.25
A50: Gloucester | B50: 18 | C50: 22 | D50: 17.875 | E50: 0.25
A51: Sussex | B51: 17 | C51: 22 | D51: 16.875 | E51: 0.25
A52: Burlington | B52: 16 | C52: 22 | D52: 15.875 | E52: 0.25
A53: Somerset | B53: 15 | C53: 22 | D53: 14.875 | E53: 0.25
A54: Salem | B54: 14 | C54: 22 | D54: 13.875 | E54: 0.25
A55: Middlesex | B55: 13 | C55: 22 | D55: 12.875 | E55: 0.25
A56: Mercer | B56: 12 | C56: 22 | D56: 11.875 | E56: 0.25
...

Sheet 1. Demographics
A1: 1.1. NJ counties race/ethnicity (percentage), 2019
C4: White | D4: Error | E4: Black/ African American | F4: Error | G4: American Indian/ Alaska Native | H4: Error | I4: Asian | J4: Error | K4: Native Hawaiian/ Other PI | L4: Error | M4: Other | N4: Error | O4: Hispanic/ Latino | P4: Error
B5: Atlantic | C5: 0.668 | D5: 2.2 | E5: 0.164 | F5: 0.5 | G5: 0.011 | H5: 0.5 | I5: 0.09 | J5: 0.3 | K5: ** | L5: ** | M5: 0.105 | N5: 1.9 | O5: 0.194 | P5: *****
B6: Bergen | C6: 0.743 | D6: 0.7 | E6: 0.07 | F6: 0.4 | G6: 0.004 | H6: 0.1 | I6: 0.18 | J6: 0.2 | K6: 0.002 | L6: 0.1 | M6: 0.034 | N6: 0.7 | O6: 0.21 | P6: *****
B7: Burlington | C7: 0.749 | D7: 0.9 | E7: 0.197 | F7: 0.4 | G7: 0.008 | H7: 0.4 | I7: 0.064 | J7: 0.3 | K7: 0.002 | L7: 0.1 | M7: 0.025 | N7: 0.6 | O7: 0.085 | P7: *****
B8: Camden | C8: 0.657 | D8: 1.2 | E8: 0.213 | F8: 0.6 | G8: 0.005 | H8: 0.1 | I8: 0.066 | J8: 0.2 | K8: 0.001 | L8: 0.1 | M8: 0.09 | N8: 1.2 | O8: 0.176 | P8: *****
B9: Cape May | C9: 0.935 | D9: 1.7 | E9: 0.054 | F9: 1.2 | G9: ** | H9: ** | I9: 0.011 | J9: 0.7 | K9: ** | L9: ** | M9: 0.015 | N9: 1.1 | O9: 0.081 | P9: *****
B10: Cumberland | C10: 0.688 | D10: 2.9 | E10: 0.237 | F10: 1.6 | G10: 0.022 | H10: 0.9 | I10: 0.026 | J10: 0.9 | K10: 0.001 | L10: 0.1 | M10: 0.082 | N10: 2.5 | O10: 0.318 | P10: *****
B11: Essex | C11: 0.466 | D11: 1.1 | E11: 0.419 | F11: 0.6 | G11: 0.006 | H11: 0.2 | I11: 0.065 | J11: 0.2 | K11: 0.001 | L11: 0.1 | M11: 0.078 | N11: 1.1 | O11: 0.238 | P11: *****
B12: Gloucester | C12: 0.833 | D12: 0.9 | E12: 0.128 | F12: 0.4 | G12: 0.005 | H12: 0.3 | I12: 0.039 | J12: 0.3 | K12: ** | L12: ** | M12: 0.028 | N12: 0.7 | O12: 0.067 | P12: *****
B13: Hudson | C13: 0.595 | D13: 1.4 | E13: 0.149 | F13: 0.7 | G13: 0.014 | H13: 0.6 | I13: 0.171 | J13: 0.3 | K13: 0.001 | L13: 0.1 | M13: 0.116 | N13: 1.3 | O13: 0.427 | P13: *****
B14: Hunterdon | C14: 0.909 | D14: 1.5 | E14: 0.028 | F14: 0.1 | G14: 0.005 | H14: 0.4 | I14: 0.052 | J14: 0.4 | K14: ** | L14: ** | M14: 0.021 | N14: 1.5 | O14: 0.07 | P14: *****
B15: Mercer | C15: 0.616 | D15: 1.3 | E15: 0.215 | F15: 0.6 | G15: 0.006 | H15: 0.4 | I15: 0.127 | J15: 0.2 | K15: ** | L15: ** | M15: 0.06 | N15: 1.2 | O15: 0.185 | P15: *****
B16: Middlesex | C16: 0.577 | D16: 1 | E16: 0.119 | F16: 0.5 | G16: 0.008 | H16: 0.3 | I16: 0.256 | J16: 0.2 | K16: 0.002 | L16: 0.1 | M16: 0.077 | N16: 1.1 | O16: 0.221 | P16: *****
B17: Monmouth | C17: 0.844 | D17: 0.6 | E17: 0.083 | F17: 0.4 | G17: 0.004 | H17: 0.1 | I17: 0.062 | J17: 0.1 | K17: 0 | L17: 0.1 | M17: 0.029 | N17: 0.7 | O17: 0.111 | P17: *****
B18: Morris | C18: 0.833 | D18: 0.8 | E18: 0.042 | F18: 0.4 | G18: 0.005 | H18: 0.4 | I18: 0.12 | J18: 0.2 | K18: 0.001 | L18: 0.1 | M18: 0.021 | N18: 0.8 | O18: 0.139 | P18: *****
B19: Ocean | C19: 0.933 | D19: 0.7 | E19: 0.04 | F19: 0.2 | G19: 0.003 | H19: 0.2 | I19: 0.023 | J19: 0.1 | K19: 0.001 | L19: 0.1 | M19: 0.021 | N19: 0.7 | O19: 0.095 | P19: *****
B20: Passaic | C20: 0.684 | D20: 1.4 | E20: 0.123 | F20: 0.4 | G20: 0.004 | H20: 0.2 | I20: 0.061 | J20: 0.2 | K20: 0.002 | L20: 0.1 | M20: 0.15 | N20: 1.4 | O20: 0.429 | P20: *****
B21: Salem | C21: 0.826 | D21: 2 | E21: 0.158 | F21: 1.1 | G21: 0.009 | H21: 0.6 | I21: 0.017 | J21: 0.6 | K21: ** | L21: ** | M21: 0.026 | N21: 1.5 | O21: 0.098 | P21: *****
B22: Somerset | C22: 0.628 | D22: 1.6 | E22: 0.108 | F22: 0.7 | G22: 0.008 | H22: 0.4 | I22: 0.196 | J22: 0.3 | K22: ** | L22: ** | M22: 0.085 | N22: 1.8 | O22: 0.152 | P22: *****
B23: Sussex | C23: 0.951 | D23: 0.7 | E23: 0.031 | F23: 0.4 | G23: 0.002 | H23: 0.2 | I23: 0.029 | J23: 0.1 | K23: ** | L23: ** | M23: 0.009 | N23: 0.5 | O23: 0.092 | P23: *****
B24: Union | C24: 0.524 | D24: 1.5 | E24: 0.23 | F24: 0.6 | G24: 0.005 | H24: 0.2 | I24: 0.065 | J24: 0.3 | K24: ** | L24: ** | M24: 0.21 | N24: 1.6 | O24: 0.328 | P24: *****
B25: Warren | C25: 0.903 | D25: 1.2 | E25: 0.061 | F25: 0.7 | G25: ** | H25: ** | I25: 0.035 | J25: 0.6 | K25: ** | L25: ** | M25: 0.031 | N25: 1.5 | O25: 0.102 | P25: *****
B26: New Jersey | C26: 0.695 | D26: 0.3 | E26: 0.151 | F26: 0.1 | G26: 0.006 | H26: 0.1 | I26: 0.107 | J26: 0.1 | K26: 0.001 | L26: 0.1 | M26: 0.071 | N26: 0.3 | O26: 0.209 | P26: *****
B27: Burlington | C27: 0.749 | D27: 0.9 | E27: 0.197 | F27: 0.4 | G27: 0.008 | H27: 0.4 | I27: 0.064 | J27: 0.3 | K27: 0.002 | L27: 0.1 | M27: 0.025 | N27: 0.6 | O27: 0.085 | P27: *****
A28: Source: American Community Survey (US Census), 2019 data. Demographic and Housing Estimates, 1-yr. Selected NJ and County. DP05. **** the estimate is controlled. A statistical test for sampling variability is not appropriate.
A29: Info: Race alone or in combination of 1+ races
A31: 1.2 Racial/ ethnic demographics (%) over time, in county
C34: White | D34: Error | E34: Black/ African American | F34: Error | G34: American Indian/ Alaska Native | H34: Error | I34: Asian | J34: Error | K34: Native Hawaiian/ Other PI | L34: Error | M34: Other | N34: Error | O34: Hispanic/ Latino | P34: Error
B35: 2015 | C35: 0.754 | D35: 0.8 | E35: 0.19 | F35: 0.4 | G35: 0.012 | H35: 0.3 | I35: 0.063 | J35: 0.2 | K35: 0.002 | L35: 0.1 | M35: 0.027 | N35: 0.6 | O35: 0.078 | P35: **
B36: 2016 | C36: 0.751 | D36: 0.7 | E36: 0.191 | F36: 0.4 | G36: 0.014 | H36: 0.4 | I36: 0.062 | J36: 0.2 | K36: 0.001 | L36: 0.1 | M36: 0.028 | N36: 0.6 | O36: 0.079 | P36: **
B37: 2017 | C37: 0.752 | D37: 0.9 | E37: 0.195 | F37: 0.5 | G37: 0.01 | H37: 0.3 | I37: 0.065 | J37: 0.2 | K37: 0.002 | L37: 0.1 | M37: 0.018 | N37: 0.4 | O37: 0.081 | P37: **
B38: 2018 | C38: 0.746 | D38: 1 | E38: 0.192 | F38: 0.3 | G38: 0.006 | H38: 0.2 | I38: 0.065 | J38: 0.3 | K38: ** | L38: ** | M38: 0.032 | N38: 0.8 | O38: 0.083 | P38: **
B39: 2019 | C39: 0.749 | D39: 0.9 | E39: 0.197 | F39: 0.4 | G39: 0.008 | H39: 0.4 | I39: 0.064 | J39: 0.3 | K39: 0.002 | L39: 0.1 | M39: 0.025 | N39: 0.6 | O39: 0.085 | P39: **
A41: Source: American Community Survey (US Census), 2015-2019 data. Demographic and Housing Estimates, 1-yr. Selected NJ and County. **** the estimate is controlled. A statistical test for sampling variability is not appropriate. DP05
A42: Info: Race alone or in combination of 1+ races
A44: 1.3. Burlington county municipalities race/ethnicity (percentage), 2019
C46: White | D46: Error | E46: Black/ African American | F46: Error | G46: American Indian/ Alaska Native | H46: Error | I46: Asian | J46: Error | K46: Native Hawaiian/ Other PI | L46: Error | M46: Other | N46: Error | O46: Hispanic/ Latino | P46: Error
A47: High | B47: Medford Township | C47: 0.989 | D47: 1.1 | E47: 0.005 | F47: 0.5 | G47: 0.005 | H47: 0.7 | I47: 0.006 | J47: 0.9 | K47: 0 | L47: 0.9 | M47: 0 | N47: 0.9 | O47: 0.034 | P47: 2.2
A48: Middle | B48: Florence | C48: 0.805 | D48: 2.7 | E48: 0.153 | F48: 2.7 | G48: 0.017 | H48: 1.2 | I48: 0.071 | J48: 1.3 | K48: 0.004 | L48: 0.5 | M48: 0.023 | N48: 1.9 | O48: 0.081 | P48: 3.2
...

Sheet 2. Poverty
A1: 2.1. NJ county poverty rate of families with children <18 (in the past 12 months), 2019
C3: Poverty Rate | D3: Error | E3: County | F3: US 14% | G3: NJ 10%
B4: Hunterdon | C4: 0.013 | D4: 1.7 | F4: 0.14 | G4: 0.1
B5: Somerset | C5: 0.042 | D5: 2.2 | F5: 0.14 | G5: 0.1
B6: Bergen | C6: 0.049 | D6: 1.2 | F6: 0.14 | G6: 0.1
B7: Monmouth | C7: 0.05 | D7: 1.3 | F7: 0.14 | G7: 0.1
B8: Morris | C8: 0.053 | D8: 1.7 | F8: 0.14 | G8: 0.1
B9: Burlington | D9: 2.2 | E9: 0.06 | F9: 0.14 | G9: 0.1
B10: Sussex | C10: 0.062 | D10: 3.3 | F10: 0.14 | G10: 0.1
B11: Gloucester | C11: 0.063 | D11: 2.4 | F11: 0.14 | G11: 0.1
B12: Warren | C12: 0.071 | D12: 4.3 | F12: 0.14 | G12: 0.1
B13: Middlesex | C13: 0.087 | D13: 1.8 | F13: 0.14 | G13: 0.1
B14: Union | C14: 0.093 | D14: 2.2 | F14: 0.14 | G14: 0.1
B15: Ocean | C15: 0.099 | D15: 2.5 | F15: 0.14 | G15: 0.1
B16: Mercer | C16: 0.111 | D16: 2.5 | F16: 0.14 | G16: 0.1
B17: Cape May | C17: 0.116 | D17: 7.2 | F17: 0.14 | G17: 0.1
B18: Camden | C18: 0.119 | D18: 2.6 | F18: 0.14 | G18: 0.1
B19: Atlantic | C19: 0.134 | D19: 3.8 | F19: 0.14 | G19: 0.1
B20: Cumberland | C20: 0.134 | D20: 4.1 | F20: 0.14 | G20: 0.1
B21: Hudson | C21: 0.151 | D21: 2.3 | F21: 0.14 | G21: 0.1
... B26: United States | C26: 0.138 | D26: 0.1 | F26: 0.14 | G26: 0.1
A28: Source: Selected economic characteristics. American Community Survey 1-yr estimates. 2019.
A29: Info: Includes families where the child (<18) is related to the householder.
A31: 2.2 Families (%) with children under the age of 18 living in poverty over time, in county
C33: Poverty Rate | D33: Error
B34: 2015 | C34: 0.095 | D34: 2.1
B35: 2016 | C35: 0.057 | D35: 1.7
B36: 2017 | C36: 0.067 | D36: 1.5
B37: 2018 | C37: 0.062 | D37: 2
B38: 2019 | C38: 0.06 | D38: 2.2
A40: Source: Selected economic characteristics. American Community Survey 1-yr estimates. 2015-2019.
A41: Info: Includes families where the child (<18) is related to the householder.
A43: 2.3. Burlington county municipality poverty rate of families with children < 18 (in the past 12 months), 2019
C45: Poverty Rate | D45: Error | E45: Burlington County Avg. 6.6%
B46: Bass River | C46: 0.357 | D46: 20.8 | E46: 0.066
B47: Beverly City | C47: 0.275 | D47: 11.7 | E47: 0.066
B48: Pemberton Borough | C48: 0.219 | D48: 18.7 | E48: 0.066
B49: Burlington City | C49: 0.193 | D49: 6.4 | E49: 0.066
B50: Riverside | C50: 0.172 | D50: 7.9 | E50: 0.066
B51: Palmyra | C51: 0.163 | D51: 7.6 | E51: 0.066
...

Sheet 3. Cost of Living
A1: 3.1. Monthly cost of living estimates ($) for NJ counties
C3: Housing | D3: Food | E3: Child Care | F3: Transportation | G3: Health Care | H3: Other Necessities | I3: Taxes | J3: Total | K3: Annual Total
B4: Atlantic | C4: 1312 | D4: 789 | E4: 1511 | F4: 1177 | G4: 1078 | H4: 848 | I4: 1049 | J4: 7763 | K4: 93158
B5: Bergen | C5: 1671 | D5: 870 | E5: 1699 | F5: 1059 | G5: 1125 | H5: 1025 | I5: 1304 | J5: 8754 | K5: 105042
B6: Burlington | C6: 1397 | D6: 749 | E6: 1527 | F6: 1249 | G6: 1078 | H6: 866 | I6: 1093 | J6: 7958 | K6: 95493
B7: Camden | C7: 1132 | D7: 789 | E7: 1386 | F7: 1192 | G7: 1078 | H7: 775 | I7: 941 | J7: 7292 | K7: 87509
B8: Cape May | C8: 1127 | D8: 939 | E8: 1437 | F8: 1223 | G8: 1078 | H8: 833 | I8: 1026 | J8: 7662 | K8: 91949
B9: Cumberland | C9: 1155 | D9: 701 | E9: 1427 | F9: 1222 | G9: 1125 | H9: 749 | I9: 948 | J9: 7327 | K9: 87920
B10: Essex | C10: 1228 | D10: 982 | E10: 1453 | F10: 936 | G10: 1125 | H10: 891 | I10: 1019 | J10: 7633 | K10: 91592
B11: Gloucester | C11: 1240 | D11: 731 | E11: 1444 | F11: 1321 | G11: 1078 | H11: 795 | I11: 1017 | J11: 7627 | K11: 91520
B12: Hudson | C12: 1614 | D12: 802 | E12: 1635 | F12: 653 | G12: 1125 | H12: 975 | I12: 1075 | J12: 7878 | K12: 94533
B13: Hunterdon | C13: 1634 | D13: 969 | E13: 1678 | F13: 1348 | G13: 1136 | H13: 1050 | I13: 1474 | J13: 9288 | K13: 111459
B14: Mercer | C14: 1329 | D14: 797 | E14: 1516 | F14: 1155 | G14: 1125 | H14: 858 | I14: 1068 | J14: 7848 | K14: 94171
B15: Middlesex | C15: 1598 | D15: 764 | E15: 1659 | F15: 1167 | G15: 1125 | H15: 953 | I15: 1229 | J15: 8494 | K15: 101927
... B25: Burlington | C25: 1397 | D25: 749 | E25: 1527 | F25: 1249 | G25: 1078 | H25: 866 | I25: 1093 | J25: 7958 | K25: 95493
A26: Source: https://www.epi.org/resources/budget/
A27: Info: Calculation of median family income here does not align with American Community Survey 5-yr estimates. Estimates are for a two-parent, two-child family. Data is as of March 2018. Budgets are in 2017 dollars. Some numbers may not sum due to rounding.
A29: 3.2 Annual cost of living estimates ($) in NJ (by county)
B31: County | C31: Annual Total Cost of Living | D31: County
A32: lowest | B32: Camden | C32: 87509
B33: Cumberland | C33: 87920
B34: Gloucester | C34: 91520
B35: Essex | C35: 91592
B36: Cape May | C36: 91949
B37: Salem | C37: 92286
B38: Union | C38: 92937
B39: Atlantic | C39: 93158
B40: Mercer | C40: 94171
B41: Hudson | C41: 94533
B42: Warren | C42: 94960
B43: Burlington | D43: 95493
B44: Passaic | C44: 97494
B45: Monmouth | C45: 98043
B46: Sussex | C46: 100814
B47: Ocean | C47: 101370
B48: Middlesex | C48: 101927
B49: Morris | C49: 104121
B50: Bergen | C50: 105042
B51: Somerset | C51: 110247
A52: highest | B52: Hunterdon | C52: 111459
...

Sheet 4. Income
A1: 4.1. NJ counties median household income, 2019
C3: Median Household Income | D3: Error | E3: County | F3: NJ Median $85,751 | G3: US Median $65,712
B4: Cumberland | C4: 54587 | D4: 5572 | F4: 85751 | G4: 65712
B5: Atlantic | C5: 63389 | D5: 3294 | F5: 85751 | G5: 65712
B6: Essex | C6: 64626 | D6: 2713 | F6: 85751 | G6: 65712
B7: Salem | C7: 68531 | D7: 3073 | F7: 85751 | G7: 65712
B8: Cape May | C8: 69980 | D8: 7037 | F8: 85751 | G8: 65712
B9: Camden | C9: 73672 | D9: 2694 | F9: 85751 | G9: 65712
B10: Ocean | C10: 76093 | D10: 2971 | F10: 85751 | G10: 65712
B11: Passaic | C11: 77040 | D11: 2556 | F11: 85751 | G11: 65712
B12: Hudson | C12: 78808 | D12: 3056 | F12: 85751 | G12: 65712
B13: Mercer | C13: 79492 | D13: 5633 | F13: 85751 | G13: 65712
B14: Union | C14: 80339 | D14: 3814 | F14: 85751 | G14: 65712
B15: Warren | C15: 84479 | D15: 4078 | F15: 85751 | G15: 65712
B16: Burlington | D16: 3533 | E16: 88797 | F16: 85751 | G16: 65712
B17: Gloucester | C17: 89447 | D17: 5967 | F17: 85751 | G17: 65712
B18: Middlesex | C18: 93418 | D18: 3720 | F18: 85751 | G18: 65712
B19: Sussex | C19: 101130 | D19: 4090 | F19: 85751 | G19: 65712
B20: Monmouth | C20: 102870 | D20: 2944 | F20: 85751 | G20: 65712
B21: Bergen | C21: 108827 | D21: 3521 | F21: 85751 | G21: 65712
B22: Somerset | C22: 111587 | D22: 6959 | F22: 85751 | G22: 65712
B23: Hunterdon | C23: 116155 | D23: 9654 | F23: 85751 | G23: 65712
B24: Morris | C24: 116283 | D24: 4894 | F24: 85751 | G24: 65712
B25: United States | C25: 65712 | D25: 118 | F25: 85751 | G25: 65712
B26: New Jersey | C26: 85751 | D26: 760 | F26: 85751 | G26: 65712
A28: Source: American Community Survey (US Census), 2019 data. Income in the past 12 months (in 2019 inflation adjusted dollars), 1-year estimates
A29: Info: n/a
A31: 4.2 Median household income ($) over time, in county
C33: Median Household Income | D33: Error
B34: 2015 | C34: 74800 | D34: 3113
B35: 2016 | C35: 80254 | D35: 2473
B36: 2017 | C36: 87673 | D36: 3575
B37: 2018 | C37: 84889 | D37: 3734
B38: 2019 | C38: 88797 | D38: 3533
A40: Source: American Community Survey (US Census), 2015-2019 data. Income in the past 12 months (in 2019 inflation adjusted dollars), 1-year estimates
A41: Info: n/a
A43: 4.3. Burlington county municipalities median household income, 2019
C45: Median Household Income | D45: Error | E45: Burlington County median $87,416
B46: Wrightstown | C46: 46833 | D46: 10945 | E46: 87416
B47: Beverly City | C47: 50868 | D47: 9707 | E47: 87416
...

Sheet 5. Housing
A1: 5.1. Households (%) with severe cost burden for housing (by county)
C3: % Severe Housing Cost Burden | D3: Error | E3: County | F3: NJ avg 19%
B4: Hunterdon | C4: 0.13553594 | D4: 12-15% | F4: 0.19
B5: Morris | C5: 0.13853426 | D5: 13-15% | F5: 0.19
B6: Warren | C6: 0.13930187 | D6: 13-15% | F6: 0.19
B7: Gloucester | C7: 0.14153446 | D7: 13-15% | F7: 0.19
B8: Sussex | C8: 0.14162754 | D8: 13-15% | F8: 0.19
B9: Burlington | D9: 14-15% | E9: 0.14280635 | F9: 0.19
B10: Somerset | C10: 0.14720072 | D10: 14-16% | F10: 0.19
B11: Salem | C11: 0.16485345 | D11: 15-18% | F11: 0.19
B12: Middlesex | C12: 0.1705693 | D12: 16-18% | F12: 0.19
B13: Mercer | C13: 0.17180857 | D13: 16-18% | F13: 0.19
B14: Monmouth | C14: 0.18063477 | D14: 17-19% | F14: 0.19
B15: Ocean | C15: 0.18181075 | D15: 17-19% | F15: 0.19
B16: Camden | C16: 0.18308578 | D16: 17-19% | F16: 0.19
B17: Cape May | C17: 0.19370698 | D17: 18-21% | F17: 0.19
B18: Bergen | C18: 0.19535095 | D18: 19-20% | F18: 0.19
B19: Union | C19: 0.20591247 | D19: 20-21% | F19: 0.19
B20: Cumberland | C20: 0.20844871 | D20: 19-23% | F20: 0.19
B21: Atlantic | C21: 0.21206188 | D21: 20-22% | F21: 0.19
... B24: Passaic | C24: 0.25300676 | D24: 24-26% | F24: 0.19
B25: New Jersey | C25: 0.19
A28: Source: Source: American Community Survey (US Census), 2020 data. ; County Health Ranking & Roadmaps, A Robert Wood Johnson Foundation Program: https://www.countyhealthrankings.org/app/new-jersey/2020/measure/factors/154/data
A29: Info: Severe housing cost burden defined as percentage of households that spend 50% or more of their household income on housing per RWJ 2020 County Health Rankings which are based on 2014-2018 data. Error not available for the United States or New Jersey.
A31: 5.2 Households (%) with severe housing problems* over time, in county
C33: % Households with severe housing problems | D33: Error
B34: 2015 | C34: 0.16 | D34: 15-17%
B35: 2016 | C35: 0.16 | D35: 16-17%
B36: 2017 | C36: 0.16 | D36: 15-17%
B37: 2018 | C37: 0.16 | D37: 15-17%
B38: 2019 | C38: 0.16 | D38: 16-17%
B39: 2020 | C39: 0.16 | D39: 15-16%
A41: Source: Source: HUD, Comprehensive Housing Affordability Strategy (CHAS), 2007-2016 data. Severe housing problems.
A42: Info: Severe housing problems defined as percentage of households with at least 1 of 4 housing problems: overcrowding, high housing costs, lack of kitchen facilities, or lack of plumbing facilities per RWJ county health rankings from 2015-2020. The 2015, 2016, 2017, 2018, 2019, and 2020 County Health Ratings used data from 2007-2011, 2008-2012, 2009-2013, 2010-2014, 2011-2015, and 2012-2016 respectively.

Sheet 6. Food & Nutrition
A1: 6.1 Food Insecurity (%) across counties, 2018
C3: 2018 | D3: County | E3: US avg. 11.5% | F3: NJ avg. 8.7%
B4: Somerset | C4: 0.052 | E4: 0.115 | F4: 0.087
B5: Hunterdon | C5: 0.053 | E5: 0.115 | F5: 0.087
B6: Morris | C6: 0.053 | E6: 0.115 | F6: 0.087
B7: Sussex | C7: 0.064 | E7: 0.115 | F7: 0.087
B8: Bergen | C8: 0.065 | E8: 0.115 | F8: 0.087
B9: Monmouth | C9: 0.071 | E9: 0.115 | F9: 0.087
B10: Middlesex | C10: 0.073 | E10: 0.115 | F10: 0.087
B11: Burlington | D11: 0.075 | E11: 0.115 | F11: 0.087
B12: Gloucester | C12: 0.078 | E12: 0.115 | F12: 0.087
B13: Union | C13: 0.082 | E13: 0.115 | F13: 0.087
B14: Warren | C14: 0.082 | E14: 0.115 | F14: 0.087
B15: Mercer | C15: 0.089 | E15: 0.115 | F15: 0.087
B16: Ocean | C16: 0.089 | E16: 0.115 | F16: 0.087
B17: Camden | C17: 0.103 | E17: 0.115 | F17: 0.087
B18: Passaic | C18: 0.104 | E18: 0.115 | F18: 0.087
B19: Hudson | C19: 0.109 | E19: 0.115 | F19: 0.087
B20: Salem | C20: 0.113 | E20: 0.115 | F20: 0.087
B21: Atlantic | C21: 0.114 | E21: 0.115 | F21: 0.087
B22: Cape May | C22: 0.117 | E22: 0.115 | F22: 0.087
B23: Cumberland | C23: 0.126 | E23: 0.115 | F23: 0.087
B24: Essex | C24: 0.127 | E24: 0.115 | F24: 0.087
B25: United States | C25: 0.115
B26: New Jersey | C26: 0.087
A28: Source: https://map.feedingamerica.org/county/2018/overall/new-jersey/
A29: Info: For ALL persons. Original source U.S. Census Bureau Current Population Survey and the U.S. Department of Agriculture Economic Research Service, as presented in the Feeding America, Map the Meal Gap Report or https://map.feedingamerica.org/county/2018/overall/new-jersey/ To accurately estimate the number of people who may be food insecure in every U.S. county and congressional district, Map the Meal Gap uses publicly available state and local data from the U.S. Census Bureau and Bureau of Labor Statistics on factors that research has shown to contribute to food insecurity. These factors include unemployment and poverty, as well as other demographic and household characteristics. In addition to measuring how pervasive the need is, the study also estimates the cost of a meal, and the amount of need among people who are food insecure, using local data from Nielsen and national survey data from the Census Bureau. More information is available online in our technical brief. Food insecurity rates decreased for most counties from 2015-2017. Feeding American made two improvements to the model used to estimate local food insecurity. The estimates now account for disability status and reflect a refind definition of poverty. These changes both improve the accuracy of our estimates and align the model with the most up-to-date research on the key determinants of food insecurity. Due to this, data prior to 2018 won't be comparable to prior years.
A37: 6.2 Individuals (#) enrolled in WIC nutrition program, in county
B39: Location | C39: 2014 | D39: 2015 | E39: 2016 | F39: 2017 | G39: 2018
B40: New Jersey | C40: 180154 | D40: 178852 | E40: 171530 | F40: 163305 | G40: 155822
B41: Atlantic | C41: 5848 | D41: 5905 | E41: 5958 | F41: 5863 | G41: 5681
B42: Bergen | C42: 7764 | D42: 7767 | E42: 7336 | F42: 6840 | G42: 6543
B43: Burlington | C43: 5320 | D43: 5046 | E43: 4703 | F43: 4450 | G43: 4402
B44: Camden | C44: 12459 | D44: 12413 | E44: 11612 | F44: 11104 | G44: 10074
B45: Cape May | C45: 1856 | D45: 1685 | E45: 1513 | F45: 1445 | G45: 1344
B46: Cumberland | C46: 6270 | D46: 5978 | E46: 5270 | F46: 5287 | G46: 5062
B47: Essex | C47: 22564 | D47: 22248 | E47: 21825 | F47: 20792 | G47: 20844
B48: Gloucester | C48: 3901 | D48: 3739 | E48: 3445 | F48: 3274 | G48: 3171
B49: Hudson | C49: 22448 | D49: 22193 | E49: 21619 | F49: 20129 | G49: 18612
B50: Hunterdon | C50: 514 | D50: 526 | E50: 495 | F50: 439 | G50: 418
...

Sheet 7. Child Care
A1: 7.1. Median monthly child care cost of center-based care by age of child​
H2: Lowest Median Cost in NJ | I2: Burlington | J2: Highest Median Cost in NJ
C3: Infant | D3: Toddler | E3: PreK | G3: Infant | H3: 700 | I3: 1216 | J3: 1420
B4: Cumberland | C4: 700 | D4: 700 | E4: 700 | G4: Toddler | H4: 700 | I4: 1120 | J4: 1443
B5: Salem | C5: 760 | D5: 740 | E5: 700 | G5: PreK | H5: 700 | I5: 860 | J5: 1025
B6: Hudson | C6: 825 | D6: 757.75 | E6: 725
B7: Cape May | C7: 840 | D7: 840 | E7: 800
B8: Essex | C8: 840 | D8: 757.75 | E8: 900
B9: Atlantic | C9: 863.48 | D9: 740 | E9: 720
B10: Ocean | C10: 900 | D10: 810 | E10: 723
B11: Passaic | C11: 900 | D11: 900 | E11: 760
B12: Sussex | C12: 956.25 | D12: 910 | E12: 800
B13: Somerset | C13: 1000 | D13: 970 | E13: 945
B14: Camden | C14: 1040 | D14: 909 | E14: 737
B15: Union | C15: 1050 | D15: 950 | E15: 820
B16: Gloucester | C16: 1081 | D16: 975 | E16: 834
B17: Middlesex | C17: 1125 | D17: 1020 | E17: 900
... B24: Hunterdon | C24: 1420 | D24: 1443 | E24: 835
B25: NJ Average | C25: =AVERAGE(C4:C24) -> 1043.8824 | D25: =AVERAGE(D4:D24) -> 952.21429 | E25: =AVERAGE(E4:E24) -> 833
B27: Lowest Median Cost in NJ | C27: 700 | D27: 700 | E27: 700
B28: Burlington | C28: 1216 | D28: 1120 | E28: 860
B29: Highest Median Cost in NJ | C29: 1420 | D29: 1443 | E29: 1025
A31: Source: https://expo.nj.com/news/g66l-2019/01/f350923ebe9277/the-cost-of-daycare-in-all-21-nj-counties-ranked-from-least-to-most-expensive.html
A32: Info: Data was collected in November 2017 by Rutgers University researchers on behalf of the New Jersey Department of Human Services and includes responses from more than 1,000 daycare centers. Free daycare programs, such as Head Start, are not included in the analysis. NJ Average calculated (using formulas) from individual county average estimates.
A36: 7.2. Median monthly child care cost of center-based care by age of child compared with median household income, by county
A39: Source: Data were collected in November 2017 by Rutgers University researchers on behalf of the New Jersey Department of Human Services and includes responses from more than 1,000 daycare centers. Free daycare programs, such as Head Start, are not included in the analysis. NJ Average calculated (using formulas) from individual county average estimates. https://expo.nj.com/news/g66l-2019/01/f350923ebe9277/the-cost-of-daycare-in-all-21-nj-counties-ranked-from-least-to-most-expensive.html. Note: While the child care cost estimates are from 2017, the median income estimates are from American Community Survey, Income in the past 12 months (in 2019 inflation adjusted dollars), 1-year estimates.
A40: Municipality data available?: No.
A41: Most recent data?: Yes, these data were collected once as a part of a specific project, so it is not possible to examine trends over time. However, it seems that they are the only publicly available data available that capture NJ childcare costs at the county level. _x000D_ _x000D_
B42: Infant County Copy | C42: Infant | D42: Toddler | E42: PreK | F42: PreK County Copy | G42: Median Household Income
A43: Cumberland | C43: 700 | D43: 700 | E43: 700 | G43: 54587
A44: Atlantic | C44: 863.48 | D44: 740 | E44: 720 | G44: 63389
A45: Essex | C45: 840 | D45: 757.75 | E45: 900 | G45: 64626
A46: Salem | C46: 760 | D46: 740 | E46: 700 | G46: 68531
A47: Cape May | C47: 840 | D47: 840 | E47: 800 | G47: 69980
A48: Camden | C48: 1040 | D48: 909 | E48: 737 | G48: 73672
A49: Ocean | C49: 900 | D49: 810 | E49: 723 | G49: 76093
A50: Passaic | C50: 900 | D50: 900 | E50: 760 | G50: 77040
A51: Hudson | C51: 825 | D51: 757.75 | E51: 725 | G51: 78808
A52: Mercer | C52: 1384 | D52: 1184 | E52: 1000 | G52: 79492
A53: Union | C53: 1050 | D53: 950 | E53: 820 | G53: 80339
...

Sheet 8. Transportation & Commute
A1: 8.1 Average commute (minutes) in NJ (by county)
C3: Time (min) | D3: Margin of Error | E3: Difference from NJ mean | F3: County | G3: US avg. 27.6 | H3: NJ avg. 33.1
B4: Sussex | C4: 37.9 | D4: 1.8 | E4: 4.8 | G4: 27.6 | H4: 33.1
B5: Warren | C5: 37.2 | D5: 2.4 | E5: 4.1 | G5: 27.6 | H5: 33.1
B6: Hudson | C6: 36.9 | D6: 0.8 | E6: 3.8 | G6: 27.6 | H6: 33.1
B7: Hunterdon | C7: 36.6 | D7: 2.2 | E7: 3.5 | G7: 27.6 | H7: 33.1
B8: Monmouth | C8: 36.2 | D8: 1 | E8: 3.1 | G8: 27.6 | H8: 33.1
B9: Essex | C9: 36.1 | D9: 0.9 | E9: 3 | G9: 27.6 | H9: 33.1
B10: Middlesex | C10: 34.9 | D10: 0.8 | E10: 1.8 | G10: 27.6 | H10: 33.1
B11: Bergen | C11: 34.2 | D11: 0.7 | E11: 1.1 | G11: 27.6 | H11: 33.1
B12: Ocean | C12: 33.7 | D12: 1.1 | E12: 0.6 | G12: 27.6 | H12: 33.1
B13: Somerset | C13: 32.9 | D13: 1.1 | E13: -0.2 | G13: 27.6 | H13: 33.1
B14: Union | C14: 32.4 | D14: 0.9 | E14: -0.7 | G14: 27.6 | H14: 33.1
B15: Morris | C15: 32.2 | D15: 0.9 | E15: -0.9 | G15: 27.6 | H15: 33.1
B16: Burlington | D16: 0.8 | E16: -2.6 | F16: 30.5 | G16: 27.6 | H16: 33.1
B17: Gloucester | C17: 30.5 | D17: 0.9 | E17: -2.6 | G17: 27.6 | H17: 33.1
B18: Camden | C18: 29.7 | D18: 0.9 | E18: -3.4 | G18: 27.6 | H18: 33.1
B19: Mercer | C19: 29.6 | D19: 1.5 | E19: -3.5 | G19: 27.6 | H19: 33.1
B20: Passaic | C20: 29.3 | D20: 0.9 | E20: -3.8 | G20: 27.6 | H20: 33.1
B21: Salem | C21: 27.8 | D21: 2 | E21: -5.3 | G21: 27.6 | H21: 33.1
B22: Atlantic | C22: 26.1 | D22: 1.4 | E22: -7 | G22: 27.6 | H22: 33.1
B23: Cumberland | C23: 24.7 | D23: 1.5 | E23: -8.4 | G23: 27.6 | H23: 33.1
B24: Cape May | C24: 24.1 | D24: 2.7 | E24: -9 | G24: 27.6 | H24: 33.1
A25: Mean > | B25: New Jersey | C25: 33.1 | D25: 0.2 | E25: 0 | G25: 27.6 | H25: 33.1
B26: United States | C26: 27.6 | D26: 0.1 | E26: -5.5 | G26: 27.6 | H26: 33.1
A28: Source:American Community Survey. Commuting characteristics by sex. 2019 American Community Survey 1-Year Estimates. S0801.
A29: Info: Calculated difference from mean using formulas
A31: 8.2 Average commute (minutes) over time, in county
C33: Time (min) | D33: Margin of Error
B34: 2015 | C34: 28.6 | D34: 0.8
B35: 2016 | C35: 29.4 | D35: 1
B36: 2017 | C36: 30.2 | D36: 0.8
B37: 2018 | C37: 30.2 | D37: 0.8
B38: 2019 | C38: 30.5 | D38: 0.8
A40: Source:American Community Survey. Commuting characteristics by sex. 2015-2019 American Community Survey 1-Year Estimates. S0801.
A41: Info: n/a
A43: 8.3 Average commute (minutes) by municipality
C45: Time (min) | D45: Margin of Error | E45: Difference from mean | F45: Burlington avg 30
B46: Chesterfield | C46: 41.7 | D46: 3.4 | E46: =C46-F46 -> 11.7 | F46: 30
B47: Shamong | C47: 36.2 | D47: 3.5 | E47: =C47-F47 -> 6.2 | F47: 30
...

Sheet 9. Health Ins. & Health Care
A1: 9.1. Proportion of NJ county minors with no health insurance coverage, 2019
C3: No health insurance | D3: Error | E3: County | F3: NJ avg. 4.3% | G3: US avg. 5.7%
B4: Sussex | C4: 0.014 | D4: 1 | F4: 0.043 | G4: 0.057
B5: Hunterdon | C5: 0.015 | D5: 1.6 | F5: 0.043 | G5: 0.057
B6: Warren | C6: 0.015 | D6: 1.3 | F6: 0.043 | G6: 0.057
B7: Cape May | C7: 0.019 | D7: 1.8 | F7: 0.043 | G7: 0.057
B8: Salem | C8: 0.022 | D8: 1.8 | F8: 0.043 | G8: 0.057
B9: Camden | C9: 0.025 | D9: 1.2 | F9: 0.043 | G9: 0.057
B10: Cumberland | C10: 0.025 | D10: 2 | F10: 0.043 | G10: 0.057
B11: Ocean | C11: 0.027 | D11: 1.3 | F11: 0.043 | G11: 0.057
B12: Burlington | D12: 1.2 | E12: 0.029 | F12: 0.043 | G12: 0.057
B13: Atlantic | C13: 0.029 | D13: 1.6 | F13: 0.043 | G13: 0.057
B14: Bergen | C14: 0.03 | D14: 0.8 | F14: 0.043 | G14: 0.057
B15: Monmouth | C15: 0.037 | D15: 1.5 | F15: 0.043 | G15: 0.057
B16: Morris | C16: 0.039 | D16: 1.4 | F16: 0.043 | G16: 0.057
B17: Mercer | C17: 0.046 | D17: 2.6 | F17: 0.043 | G17: 0.057
B18: Hudson | C18: 0.05 | D18: 1.8 | F18: 0.043 | G18: 0.057
B19: Middlesex | C19: 0.051 | D19: 1.2 | F19: 0.043 | G19: 0.057
B20: Gloucester | C20: 0.052 | D20: 3 | F20: 0.043 | G20: 0.057
B21: Essex | C21: 0.058 | D21: 1.4 | F21: 0.043 | G21: 0.057
B22: Somerset | C22: 0.063 | D22: 2.6 | F22: 0.043 | G22: 0.057
B23: Union | C23: 0.064 | D23: 1.9 | F23: 0.043 | G23: 0.057
B24: Passaic | C24: 0.074 | D24: 1.9 | F24: 0.043 | G24: 0.057
... B26: United States | C26: 0.057 | D26: 0.1 | F26: 0.043 | G26: 0.057
A29: Source: Selected economic characteristics. American Community Survey 1-yr estimates. 2019.
A30: Info: Civilian noninstitutionalized population under 19 years - No health insurance coverage. Note that municipalities with an orange error margin should be interpreted cautiously owing to concerns over accuracy (error is at least 50% of the estimate).
A32: 9.2 Children without health insurance (%) over time, in county
C34: No health insurance | D34: Margin of Error
B35: 2015 | C35: 0.021 | D35: 0.9
B36: 2016 | C36: 0.015 | D36: 0.7
B37: 2017 | C37: 0.024 | D37: 1.1
B38: 2018 | C38: 0.024 | D38: 0.8
B39: 2019 | C39: 0.029 | D39: 1.2
A41: Source: 2019 data. Selected economic characteristics. American Community Survey 1-yr estimates. 2015-2019. American Community Survey.
A42: Info: Civilian noninstitutionalized population under 19 years in 2017 - No health insurance coverage. Note that in 2016 and the preceding years, data include civilian noninstitutionalized population under 19 years.
A45: 9.3. Proportion of Burlington county municipality minors with no health insurance coverage, 2019
C48: No health insurance | D48: Error | E48: Burlington County avg. 2.40%
B49: Eastampton | C49: 0.09 | D49: 11.4 | E49: 0.024
B50: Edgewater Park | C50: 0.076 | D50: 6.5 | E50: 0.024
B51: Bass River | C51: 0.066 | D51: 7.2 | E51: 0.024
...

Sheet 10. Employment
A1: 10.1. NJ county average weekly wage ($) by quarter, 2019
C3: 2019
C4: Q1 | D4: Q2 | E4: Q3 | F4: Q4 | G4: Annual average
B5: New Jersey | C5: 1400 | D5: 1236 | E5: 1216 | F5: 1332 | G5: 1295
B6: Atlantic | C6: 909 | D6: 899 | E6: 878 | F6: 972 | G6: 914
B7: Bergen | C7: 1333 | D7: 1233 | E7: 1238 | F7: 1355 | G7: 1290
B8: Burlington | C8: 1173 | D8: 1089 | E8: 1094 | F8: 1177 | G8: 1113
B9: Camden | C9: 1077 | D9: 1044 | E9: 1039 | F9: 1155 | G9: 1079
B10: Cape May | C10: 783 | D10: 712 | E10: 697 | F10: 839 | G10: 750
B11: Cumberland | C11: 889 | D11: 890 | E11: 888 | F11: 968 | G11: 909
B12: Essex | C12: 1537 | D12: 1304 | E12: 1329 | F12: 1405 | G12: 1394
B13: Gloucester | C13: 903 | D13: 909 | E13: 887 | F13: 956 | G13: 914
B14: Hudson | C14: 1738 | D14: 1426 | E14: 1383 | F14: 1484 | G14: 1508
B15: Hunterdon | C15: 1388 | D15: 1208 | E15: 1173 | F15: 1295 | G15: 1266
B16: Mercer | C16: 1639 | D16: 1348 | E16: 1296 | F16: 1450 | G16: 1433
... B27: Burlington | C27: 1173 | D27: 1089 | E27: 1094 | F27: 1177 | G27: 1113
A28: Source: Bureau of Labor Statistics. https://data.bls.gov/PDQWeb/en
A29: Info: Average weekly wages were calculated using unrounded data. Average weekly wage in total covered total, all industries, for all establishment sizes in all counties.
A31: 10.2. Burlington county average weekly wage by quarter, 2017-2019
C34: Q1 | D34: Q2 | E34: Q3 | F34: Q4 | G34: Annual Average
B35: 2017 | C35: 1101 | D35: 1035 | E35: 1018 | F35: 1104 | G35: 1064
B36: 2018 | C36: 1143 | D36: 1072 | E36: 1067 | F36: 1148 | G36: 1108
B37: 2019 | C37: 1173 | D37: 1089 | E37: 1094 | F37: 1177 | G37: 1133
A39: Source: Bureau of Labor Statistics. https://data.bls.gov/PDQWeb/en
A40: Info: Average weekly wages were calculated using unrounded data. Average weekly wage in total covered total, all industries, for all establishment sizes in all counties.
A43: 10.3. County level unemployment rates, October 2019-September 2020 (unadjusted)
C45: 2019 | F45: 2020
C46: October | D46: November | E46: December | F46: January | G46: February | H46: March | I46: April | J46: May | K46: June | L46: July | M46: August | N46: September
B47: Atlantic | C47: 0.048 | D47: 0.05 | E47: 0.055 | F47: 0.068 | G47: 0.064 | H47: 0.057 | I47: 0.338 | J47: 0.325 | K47: 0.344 | L47: 0.245 | M47: 0.179 | N47: 0.101
B48: Bergen | C48: 0.029 | D48: 0.028 | E48: 0.028 | F48: 0.035 | G48: 0.034 | H48: 0.03 | I48: 0.155 | J48: 0.149 | K48: 0.165 | L48: 0.144 | M48: 0.112 | N48: 0.065
B49: Burlington | C49: 0.032 | D49: 0.032 | E49: 0.032 | F49: 0.039 | G49: 0.037 | H49: 0.032 | I49: 0.134 | J49: 0.127 | K49: 0.14 | L49: 0.123 | M49: 0.093 | N49: 0.052
B50: Camden | C50: 0.04 | D50: 0.04 | E50: 0.041 | F50: 0.048 | G50: 0.046 | H50: 0.04 | I50: 0.162 | J50: 0.152 | K50: 0.166 | L50: 0.145 | M50: 0.113 | N50: 0.065
B51: Cape May | C51: 0.056 | D51: 0.087 | E51: 0.105 | F51: 0.136 | G51: 0.121 | H51: 0.109 | I51: 0.269 | J51: 0.226 | K51: 0.202 | L51: 0.153 | M51: 0.112 | N51: 0.068
B52: Cumberland | C52: 0.05 | D52: 0.053 | E52: 0.06 | F52: 0.073 | G52: 0.068 | H52: 0.06 | I52: 0.165 | J52: 0.151 | K52: 0.167 | L52: 0.151 | M52: 0.115 | N52: 0.067
B53: Essex | C53: 0.044 | D53: 0.044 | E53: 0.045 | F53: 0.053 | G53: 0.05 | H53: 0.046 | I53: 0.168 | J53: 0.166 | K53: 0.189 | L53: 0.172 | M53: 0.138 | N53: 0.084
B54: Gloucester | C54: 0.035 | D54: 0.036 | E54: 0.038 | F54: 0.046 | G54: 0.043 | H54: 0.037 | I54: 0.158 | J54: 0.145 | K54: 0.157 | L54: 0.134 | M54: 0.102 | N54: 0.057
B55: Hudson | C55: 0.032 | D55: 0.032 | E55: 0.032 | F55: 0.038 | G55: 0.036 | H55: 0.033 | I55: 0.16 | J55: 0.158 | K55: 0.178 | L55: 0.16 | M55: 0.126 | N55: 0.076
B56: Hunterdon | C56: 0.026 | D56: 0.026 | E56: 0.027 | F56: 0.035 | G56: 0.034 | H56: 0.029 | I56: 0.123 | J56: 0.113 | K56: 0.124 | L56: 0.107 | M56: 0.081 | N56: 0.045
B57: Mercer | C57: 0.031 | D57: 0.03 | E57: 0.031 | F57: 0.039 | G57: 0.036 | H57: 0.031 | I57: 0.109 | J57: 0.106 | K57: 0.124 | L57: 0.114 | M57: 0.087 | N57: 0.051
B58: Middlesex | C58: 0.03 | D58: 0.03 | E58: 0.03 | F58: 0.037 | G58: 0.036 | H58: 0.032 | I58: 0.142 | J58: 0.135 | K58: 0.149 | L58: 0.132 | M58: 0.102 | N58: 0.059
...

Sheet 11. Community Safety
A1: 11.1. Violent Crimes (#) and the Crime Rate (per 1,000), 2019
B3: County | C3: #Violent Crimes | D3: Violent Crime Rate per 1,000 | F3: #Non-violent crimes | G3: Nonviolent Crime Rate per 1,000
A4: Hunterdon | C4: 58 | D4: 0.5 | F4: 468 | G4: 3.8
A5: Morris | C5: 267 | D5: 0.5 | F5: 3026 | G5: 6.1
A6: Sussex | C6: 76 | D6: 0.5 | F6: 635 | G6: 4.6
A7: Somerset | C7: 183 | D7: 0.6 | F7: 2881 | G7: 8.7
A8: Warren | C8: 78 | D8: 0.7 | F8: 1181 | G8: 11.2
A9: Bergen | C9: 709 | D9: 0.8 | F9: 8084 | G9: 8.6
A10: Ocean | C10: 555 | D10: 0.9 | F10: 5890 | G10: 9.9
A11: Gloucester | C11: 301 | D11: 1 | F11: 4531 | G11: 15.7
A12: Middlesex | C12: 1059 | D12: 1.3 | F12: 9460 | G12: 11.3
A13: Monmouth | C13: 830 | D13: 1.3 | F13: 7440 | G13: 11.7
A14: Burlington | B14: 663 | D14: 1.5 | F14: 5151 | G14: 11.6
A15: Cape May | C15: 161 | D15: 1.8 | F15: 1910 | G15: 20.8
A16: Atlantic | C16: 672 | D16: 2.5 | F16: 6314 | G16: 23.8
A17: Union | C17: 1578 | D17: 2.8 | F17: 9442 | G17: 16.9
A18: Salem | C18: 181 | D18: 2.9 | F18: 919 | G18: 14.9
A19: Hudson | C19: 2275 | D19: 3.3 | F19: 11098 | G19: 16.1
A20: Passaic | C20: 1842 | D20: 3.6 | F20: 7720 | G20: 15.2
A21: Mercer | C21: 1364 | D21: 3.7 | F21: 5596 | G21: 15.1
A22: Camden | C22: 1924 | D22: 3.8 | F22: 10576 | G22: 21
A23: Essex | C23: 3028 | D23: 3.8 | F23: 12465 | G23: 15.6
A24: Cumberland | C24: 631 | D24: 4.2 | F24: 4047 | G24: 27
A26: Note: Per document: "All crime rates are based on permanent, year-round populations. Comparisons of crime rates between individual municipalities should not be made without giving major consideration to the volume of seasonal population, transients, tourists, and labor forces."
A27: Note: Per document: "All offenses are recorded in the municipality of occurrence, regardless of the outside investigative agency, i.e., Federal, State, County, College Campus Police."
A28: Note: Per document: "Crime rates were not computed for municipalities with population less than 100."
A29: Source: New Jersey Municipal-County Offense & Demographic Data, 2019, Section 7
A30: State of New Jersey, Department of Law & Public Safety, Office of the Attorney General, New Jersey State Police, 2019 Uniform Crime Reports
A31: https://www.njsp.org/ucr/uniform-crime-reports.shtml
A32: Municipality Data Available?: Yes; however, it is suggested not to compare rates between municipalities per the report.
A34: 11.2 Crimes by type (#) in county
B36: Type of Crime | C36: # of Occurrences
B38: Violent Crimes
B39: Murder | C39: 12
B40: Rape | C40: 99
B41: Robbery | C41: 142
B42: Aggravated Assault | C42: 410
B44: Non-Violent Crimes
B45: Burglary | C45: 770
B46: Larceny | C46: 4077
...

Sheet 12. Domestic Violence
A1: 12.1. NJ county domestic violence incidents, 2019
C3: # DV incidents | D3: County
B4: Hunterdon | C4: 570
B5: Salem | C5: 773
B6: Sussex | C6: 1265
B7: Warren | C7: 1311
B8: Cape May | C8: 1339
B9: Morris | C9: 1802
B10: Somerset | C10: 1840
B11: Mercer | C11: 2139
B12: Gloucester | C12: 2417
B13: Passaic | C13: 2451
B14: Cumberland | C14: 2510
B15: Hudson | C15: 2656
... B19: Monmouth | C19: 3514
B20: Burlington | D20: 3747
B21: Middlesex | C21: 4336
B22: Ocean | C22: 4372
B23: Essex | C23: 6420
B24: Camden | C24: 6532
B25: New Jersey | C25: 59645
A27: Source: Annual domestic violence reports. https://www.njsp.org/ucr/domestic-violence-reports.shtml
A28: Info: The New Jersey State Police UCR Unit relies on the individual reporting agencies for accuracy of the reported data. Data are available annually (from 2006 onward). Note that total county population size has not been accounted for in this indicator.
A30: 12.2 Domestic violence incidents (# reported) over time, in county
C32: # DV incidents
B33: 2015 | C33: 3798
B34: 2016 | C34: 3821
B35: 2017 | C35: 3699
B36: 2018 | C36: 3600
B37: 2019 | C37: 3747
A39: Source: Annual domestic violence reports. https://www.njsp.org/ucr/domestic-violence-reports.shtml
A40: Info: The New Jersey State Police UCR Unit relies on the individual reporting agencies for accuracy of the reported data. Data are available annually (from 2006 onward). Note that total county population size has not been accounted for in this indicator.
A42: 12.3. Domestic violence incidents by Burlington county municipality, 2013-2019
C44: 2013 | D44: 2014 | E44: 2015 | F44: 2016 | G44: 2017 | H44: 2018 | I44: 2019
B45: Pemberton Township | C45: 558 | D45: 584 | E45: 652 | F45: 599 | G45: 557 | H45: 589 | I45: 540
B46: Evesham | C46: 343 | D46: 354 | E46: 416 | F46: 519 | G46: 452 | H46: 433 | I46: 397
B47: Mount Laurel | C47: 230 | D47: 201 | E47: 230 | F47: 212 | G47: 248 | H47: 333 | I47: 353
B48: Maple Shade | C48: 200 | D48: 219 | E48: 230 | F48: 221 | G48: 196 | H48: 227 | I48: 269
B49: Willingboro | C49: 329 | D49: 246 | E49: 285 | F49: 203 | G49: 251 | H49: 198 | I49: 223
B50: Mount Holly | C50: 261 | D50: 254 | E50: 194 | F50: 249 | G50: 239 | H50: 221 | I50: 191
...

Sheet 13. Substance Use Disorder
A1: 13.1. NJ counties suspected opioid overdose deaths and % change, 2018-2019
C3: # deaths
C4: 2018 | D4: 2019 | E4: % change | F4: County | G4: NJ -3% change
B5: Salem | C5: 31 | D5: 43 | E5: 0.39 | G5: -0.03
B6: Cape May | C6: 47 | D6: 59 | E6: 0.26 | G6: -0.03
B7: Sussex | C7: 35 | D7: 41 | E7: 0.17 | G7: -0.03
B8: Essex | C8: 390 | D8: 428 | E8: 0.1 | G8: -0.03
B9: Camden | C9: 329 | D9: 340 | E9: 0.03 | G9: -0.03
B10: Bergen | C10: 157 | D10: 162 | E10: 0.03 | G10: -0.03
B11: Burlington | C11: 161 | D11: 164 | F11: 0.02 | G11: -0.03
B12: Middlesex | C12: 209 | D12: 206 | E12: -0.01 | G12: -0.03
B13: Union | C13: 150 | D13: 147 | E13: -0.02 | G13: -0.03
B14: Hudson | C14: 184 | D14: 179 | E14: -0.03 | G14: -0.03
B15: Gloucester | C15: 145 | D15: 138 | E15: -0.05 | G15: -0.03
B16: Atlantic | C16: 190 | D16: 180 | E16: -0.05 | G16: -0.03
B17: Ocean | C17: 217 | D17: 204 | E17: -0.06 | G17: -0.03
B18: Morris | C18: 94 | D18: 86 | E18: -0.09 | G18: -0.03
B19: Somerset | C19: 52 | D19: 47 | E19: -0.1 | G19: -0.03
B20: Passaic | C20: 196 | D20: 171 | E20: -0.13 | G20: -0.03
B21: Monmouth | C21: 221 | D21: 187 | E21: -0.15 | G21: -0.03
B22: Cumberland | C22: 113 | D22: 91 | E22: -0.19 | G22: -0.03
B23: Mercer | C23: 147 | D23: 115 | E23: -0.22 | G23: -0.03
... B25: Hunterdon | C25: 20 | D25: 13 | E25: -0.35 | G25: -0.03
B26: New Jersey | C26: 3118 | D26: 3021 | E26: -0.03
A28: Source: NJ Cares: A real-time dashboard of Opioid related data and information. Office of the Attorney General of NJ. https://www.njcares.gov/#atla
A29: Info: Calculation (2019-2018)/2018 = Percent Change
A31: 13.2 Number of (#) suspected opioid deaths over time, in county
C33: # deaths
B34: 2015 | C34: 87
B35: 2016 | C35: 96
B36: 2017 | C36: 149
B37: 2018 | C37: 161
B38: 2019 | C38: 164
A40: Source: NJ Cares: A real-time dashboard of Opioid related data and information. Office of the Attorney General of NJ. https://www.njcares.gov/#atla
A41: Info: Note that total county population size has not been accounted for in this indicator.
A43: 13.3. Change in Population for every one overdose death, 2017-2018
C45: Population per overdose death
C46: 2017 | D46: 2018 | E46: % change | F46: County | G46: NJ % change -12%
B47: Cape May | C47: 1579 | D47: 1969 | E47: =(D47-C47)/C47 -> 0.24699177 | G47: -0.12
B48: Warren | C48: 2941 | D48: 3526 | E48: =(D48-C48)/C48 -> 0.19891193 | G48: -0.12
...

Sheet 14. Mental Health Services
A1: 14.1. Burlington county mental health services (programs), 2017
C3: # of Programs
B4: Acute Care Family Support | C4: 0
B5: County Mental Health Board | C5: 1
B6: Emergency Services | C6: 0
B7: Homeless Services (PATH) | C7: 1
B8: Integrated Case Management Services | C8: 1
B9: Intensive Family Support | C9: 1
B10: Intensive Outpatient Tx and Support Services | C10: 1
B11: Involuntary Outpatient Commitment | C11: 1
B12: Justice Involved Services | C12: 0
B13: Outpatient | C13: 2
B14: Partial Care | C14: 2
B15: Program of Assertive Community Treatment (PACT) | C15: 1
... B24: Primary Screening Services | C24: 1
A26: Source: NJ Department of Human Services. 2017. https://www.nj.gov/humanservices/dmhas/home/hotlines/MH_Dir_COMPLETE.pdf
A27: Info: Primary screening services info from https://www.state.nj.us/humanservices/dmhas/home/hotlines/MH_Screening_Centers.pdf
A29: 14.2. NJ county age adjusted frequency of mental health distress, 2017
C31: Percent | D31: n | E31: County | F31: NJ Overall 12.1%
B32: Hunterdon | C32: 0.062 | D32: 527 | F32: 0.121
B33: Bergen | C33: 0.079 | D33: 577 | F33: 0.121
B34: Essex | C34: 0.08 | D34: 968 | F34: 0.121
B35: Cumberland | C35: 0.103 | D35: 452 | F35: 0.121
B36: Hudson | C36: 0.113 | D36: 584 | F36: 0.121
B37: Morris | C37: 0.118 | D37: 512 | F37: 0.121
B38: Middlesex | C38: 0.12 | D38: 571 | F38: 0.121
B39: Sussex | C39: 0.124 | D39: 475 | F39: 0.121
B40: Gloucester | C40: 0.129 | D40: 495 | F40: 0.121
B41: Passaic | C41: 0.133 | D41: 548 | F41: 0.121
B42: Monmouth | C42: 0.135 | D42: 491 | F42: 0.121
B43: Ocean | C43: 0.135 | D43: 572 | F43: 0.121
... B48: Warren | C48: 0.145 | D48: 515 | F48: 0.121
B49: Burlington | D49: 555 | E49: 0.158 | F49: 0.121
B50: Cape May | C50: 0.159 | D50: 442 | F50: 0.121
B51: Mercer | C51: 0.168 | D51: 532 | F51: 0.121
B52: Camden | C52: 0.174 | D52: 540 | F52: 0.121
A54: Source: NJ State Health Assessment Data. Query Building Tool. https://www-doh.state.nj.us/doh-shad/query/builder/njbrfs/MentHlth14/MentHlth14AA11_.html
A55: Info: Indicator: Frequent mental distress. 14 or more of the past 30 days "not good" Data from New Jersey Behavioral Risk Factor Survey Data - Age adjusted. The NJBRFS collects uniform, state-specific data on preventive health practices and risk behaviors that are linked to chronic diseases, injuries, and preventable infectious diseases in the adult population. The survey is conducted using scientific telephone survey methods. Excluded are adults living in group quarters such as college dormitories, nursing homes, military barracks, and prisons. Results have been weighted to the adult population by age, sex, and geographic area of residence. . The data in this query module are collected and maintained by the New Jersey Department of Health, Center for Health Statistics, in collaboration with the US Centers for Disease Control and Prevention. Data available annually between 2011 and 2017. Data not available by municipality.
A57: 14.3 Frequency (%) of mental health distress over time – age adjusted, in county
C59: Percent | D59: n
...

Sheet 15. Education
A1: 15.1 Children enrolled in special education services, by County, 2018-2019
C3: # enrolled
C4: 2018 Copy This County | D4: 2018 | E4: 2019 | F4: 2019 Copy This County
B5: Salem | D5: 2059 | E5: 2056
B6: Cape May | D6: 2411 | E6: 2359
B7: Warren | D7: 2970 | E7: 2936
B8: Hunterdon | D8: 3500 | E8: 3529
B9: Sussex | D9: 4284 | E9: 4177
B10: Cumberland | D10: 5051 | E10: 4995
B11: Atlantic | D11: 7754 | E11: 7577
B12: Gloucester | D12: 8997 | E12: 8896
B13: Somerset | D13: 9004 | E13: 9004
B14: Mercer | D14: 10275 | E14: 9860
B15: Hudson | D15: 12627 | E15: 12496
B16: Morris | D16: 13526 | E16: 13101
B17: Burlington | C17: 13311 | D17: 13311 | E17: 13284 | F17: 13284
B18: Passaic | D18: 14469 | E18: 14186
B19: Ocean | D19: 16605 | E19: 14364
B20: Camden | D20: 15638 | E20: 14788
B21: Union | D21: 15217 | E21: 14961
B22: Monmouth | D22: 18203 | E22: 17177
B23: Middlesex | D23: 18515 | E23: 18583
B24: Essex | D24: 22189 | E24: 22004
B25: Bergen | D25: 24354 | E25: 23642
B26: New Jersey | D26: 241047 | E26: 246677
A28: Source: New Jersey Department of Education Office of Special Education Programs, 2019 Special Education Data
A29: Data updated as of October 2019.
A30: Municipality Data Available?: Yes
A31: Note: Charter schools were included in the county of registered address. Note that total county population size has not been accounted for in this indicator.
A33: 15.2 Children Receiving Early Intervention Services, by County, 2018-2019
C35: # enrolled
C36: 2018-2019 | D36: County
B37: Salem | C37: 75
B38: Cape May | C38: 97
B39: Warren | C39: 116
B40: Hunterdon | C40: 126
B41: Sussex | C41: 171
B42: Cumberland | C42: 196
B43: Atlantic | C43: 386
B44: Somerset | C44: 404
...
